BEGIN:VCALENDAR
VERSION:2.0
PRODID:-//Evangelische Kirchgemeinde Wörlitz - ECPv6.15.20//NONSGML v1.0//EN
CALSCALE:GREGORIAN
METHOD:PUBLISH
X-WR-CALNAME:Evangelische Kirchgemeinde Wörlitz
X-ORIGINAL-URL:https://www.kirche-woerlitz.de
X-WR-CALDESC:Veranstaltungen für Evangelische Kirchgemeinde Wörlitz
REFRESH-INTERVAL;VALUE=DURATION:PT1H
X-Robots-Tag:noindex
X-PUBLISHED-TTL:PT1H
BEGIN:VTIMEZONE
TZID:Europe/Berlin
BEGIN:DAYLIGHT
TZOFFSETFROM:+0100
TZOFFSETTO:+0200
TZNAME:CEST
DTSTART:20250330T010000
END:DAYLIGHT
BEGIN:STANDARD
TZOFFSETFROM:+0200
TZOFFSETTO:+0100
TZNAME:CET
DTSTART:20251026T010000
END:STANDARD
BEGIN:DAYLIGHT
TZOFFSETFROM:+0100
TZOFFSETTO:+0200
TZNAME:CEST
DTSTART:20260329T010000
END:DAYLIGHT
BEGIN:STANDARD
TZOFFSETFROM:+0200
TZOFFSETTO:+0100
TZNAME:CET
DTSTART:20261025T010000
END:STANDARD
BEGIN:DAYLIGHT
TZOFFSETFROM:+0100
TZOFFSETTO:+0200
TZNAME:CEST
DTSTART:20270328T010000
END:DAYLIGHT
BEGIN:STANDARD
TZOFFSETFROM:+0200
TZOFFSETTO:+0100
TZNAME:CET
DTSTART:20271031T010000
END:STANDARD
END:VTIMEZONE
BEGIN:VEVENT
DTSTART;TZID=Europe/Berlin:20260507T190000
DTEND;TZID=Europe/Berlin:20260507T200000
DTSTAMP:20260422T010235
CREATED:20260330T102936Z
LAST-MODIFIED:20260416T040658Z
UID:540-1778180400-1778184000@www.kirche-woerlitz.de
SUMMARY:Taizégebet für den Frieden - mit dem Chor und Flötenkreis
DESCRIPTION:
URL:https://www.kirche-woerlitz.de/event/taizegebet-fuer-den-frieden-fuer-den-frieden-mit-dem-chor-und-floetenkreis/
LOCATION:St.-Petri-Kirche
CATEGORIES:Gottesdienste
END:VEVENT
BEGIN:VEVENT
DTSTART;TZID=Europe/Berlin:20260524T093000
DTEND;TZID=Europe/Berlin:20260524T103000
DTSTAMP:20260422T010235
CREATED:20260330T103022Z
LAST-MODIFIED:20260413T071931Z
UID:542-1779615000-1779618600@www.kirche-woerlitz.de
SUMMARY:Gottesdienst
DESCRIPTION:
URL:https://www.kirche-woerlitz.de/event/gottesdienst-2/
LOCATION:St.-Petri-Kirche
CATEGORIES:Gottesdienste
END:VEVENT
BEGIN:VEVENT
DTSTART;TZID=Europe/Berlin:20260531T150000
DTEND;TZID=Europe/Berlin:20260531T170000
DTSTAMP:20260422T010235
CREATED:20260325T175622Z
LAST-MODIFIED:20260413T072311Z
UID:167-1780239600-1780246800@www.kirche-woerlitz.de
SUMMARY:Orgelkonzert (Alexander Patrushin\, Leipzig)
DESCRIPTION:Alexander Patrushin studierte Klavier und Orgel an der Musikhochschule Archangelsk und am Konservatorium Rimsky-Korsakov\, Sankt-Petersburg. Derzeit ist er Student an der Hochschule für Musik und Theater Felix Mendelssohn-Bartholdy in Leipzig. Der junge Musiker ist mehrfacher Preisträger von inter-nationalen Orgelwettbewerben. Bei seinem Konzert erklingen unter anderem Werke von Johann Sebastian Bach\, Johann Pachelbel\, Dieterich Buxtehude und Robert Schumann.
URL:https://www.kirche-woerlitz.de/event/orgelkonzert-alexander-patrushin-leipzig/
LOCATION:St.-Petri-Kirche
CATEGORIES:Konzerte
ATTACH;FMTTYPE=image/jpeg:https://www.kirche-woerlitz.de/wp-content/uploads/2026/03/images.jpeg
END:VEVENT
END:VCALENDAR