BEGIN:VCALENDAR
VERSION:2.0
PRODID:-//Evangelische Kirchgemeinde Wörlitz - ECPv6.15.20//NONSGML v1.0//EN
CALSCALE:GREGORIAN
METHOD:PUBLISH
X-ORIGINAL-URL:https://www.kirche-woerlitz.de
X-WR-CALDESC:Veranstaltungen für Evangelische Kirchgemeinde Wörlitz
REFRESH-INTERVAL;VALUE=DURATION:PT1H
X-Robots-Tag:noindex
X-PUBLISHED-TTL:PT1H
BEGIN:VTIMEZONE
TZID:Europe/Berlin
BEGIN:DAYLIGHT
TZOFFSETFROM:+0100
TZOFFSETTO:+0200
TZNAME:CEST
DTSTART:20250330T010000
END:DAYLIGHT
BEGIN:STANDARD
TZOFFSETFROM:+0200
TZOFFSETTO:+0100
TZNAME:CET
DTSTART:20251026T010000
END:STANDARD
BEGIN:DAYLIGHT
TZOFFSETFROM:+0100
TZOFFSETTO:+0200
TZNAME:CEST
DTSTART:20260329T010000
END:DAYLIGHT
BEGIN:STANDARD
TZOFFSETFROM:+0200
TZOFFSETTO:+0100
TZNAME:CET
DTSTART:20261025T010000
END:STANDARD
BEGIN:DAYLIGHT
TZOFFSETFROM:+0100
TZOFFSETTO:+0200
TZNAME:CEST
DTSTART:20270328T010000
END:DAYLIGHT
BEGIN:STANDARD
TZOFFSETFROM:+0200
TZOFFSETTO:+0100
TZNAME:CET
DTSTART:20271031T010000
END:STANDARD
END:VTIMEZONE
BEGIN:VEVENT
DTSTART;TZID=Europe/Berlin:20260412T093000
DTEND;TZID=Europe/Berlin:20260412T103000
DTSTAMP:20260421T212517
CREATED:20260330T102723Z
LAST-MODIFIED:20260413T082611Z
UID:536-1775986200-1775989800@www.kirche-woerlitz.de
SUMMARY:Gottesdienst
DESCRIPTION:
URL:https://www.kirche-woerlitz.de/event/gottesdienst/
LOCATION:St.-Petri-Kirche
CATEGORIES:Gottesdienste
END:VEVENT
BEGIN:VEVENT
DTSTART;TZID=Europe/Berlin:20260405T093000
DTEND;TZID=Europe/Berlin:20260405T100000
DTSTAMP:20260421T212517
CREATED:20260330T102600Z
LAST-MODIFIED:20260404T060155Z
UID:534-1775381400-1775383200@www.kirche-woerlitz.de
SUMMARY:Festgottesdienst mit Musik für Saxophon und Orgel
DESCRIPTION:
URL:https://www.kirche-woerlitz.de/event/festgottesdienst-mit-musik-fuer-saxophon-und-orgel/
LOCATION:St.-Petri-Kirche
CATEGORIES:Gottesdienste
END:VEVENT
BEGIN:VEVENT
DTSTART;TZID=Europe/Berlin:20260403T150000
DTEND;TZID=Europe/Berlin:20260403T160000
DTSTAMP:20260421T212517
CREATED:20260330T102418Z
LAST-MODIFIED:20260403T175131Z
UID:532-1775228400-1775232000@www.kirche-woerlitz.de
SUMMARY:Gottesdienst mit Abendmahl und dem Kirchenchor
DESCRIPTION:
URL:https://www.kirche-woerlitz.de/event/gottesdienst-mit-abendmahl-und-dem-kirchenchor/
LOCATION:St.-Petri-Kirche
CATEGORIES:Gottesdienste
END:VEVENT
BEGIN:VEVENT
DTSTART;TZID=Europe/Berlin:20260329T140000
DTEND;TZID=Europe/Berlin:20260329T150000
DTSTAMP:20260421T212517
CREATED:20260330T102252Z
LAST-MODIFIED:20260403T175120Z
UID:530-1774792800-1774796400@www.kirche-woerlitz.de
SUMMARY:Beginn der neuen Bibelturmsaison\, Regionalgottesdienst
DESCRIPTION:
URL:https://www.kirche-woerlitz.de/event/beginn-der-neuen-bibelturmsaison-regionalgottesdienst/
LOCATION:St.-Petri-Kirche
CATEGORIES:Gottesdienste
END:VEVENT
END:VCALENDAR