BEGIN:VCALENDAR
VERSION:2.0
PRODID:-//Evangelische Kirchgemeinde Wörlitz - ECPv6.15.20//NONSGML v1.0//EN
CALSCALE:GREGORIAN
METHOD:PUBLISH
X-WR-CALNAME:Evangelische Kirchgemeinde Wörlitz
X-ORIGINAL-URL:https://www.kirche-woerlitz.de
X-WR-CALDESC:Veranstaltungen für Evangelische Kirchgemeinde Wörlitz
REFRESH-INTERVAL;VALUE=DURATION:PT1H
X-Robots-Tag:noindex
X-PUBLISHED-TTL:PT1H
BEGIN:VTIMEZONE
TZID:Europe/Berlin
BEGIN:DAYLIGHT
TZOFFSETFROM:+0100
TZOFFSETTO:+0200
TZNAME:CEST
DTSTART:20250330T010000
END:DAYLIGHT
BEGIN:STANDARD
TZOFFSETFROM:+0200
TZOFFSETTO:+0100
TZNAME:CET
DTSTART:20251026T010000
END:STANDARD
BEGIN:DAYLIGHT
TZOFFSETFROM:+0100
TZOFFSETTO:+0200
TZNAME:CEST
DTSTART:20260329T010000
END:DAYLIGHT
BEGIN:STANDARD
TZOFFSETFROM:+0200
TZOFFSETTO:+0100
TZNAME:CET
DTSTART:20261025T010000
END:STANDARD
BEGIN:DAYLIGHT
TZOFFSETFROM:+0100
TZOFFSETTO:+0200
TZNAME:CEST
DTSTART:20270328T010000
END:DAYLIGHT
BEGIN:STANDARD
TZOFFSETFROM:+0200
TZOFFSETTO:+0100
TZNAME:CET
DTSTART:20271031T010000
END:STANDARD
END:VTIMEZONE
BEGIN:VEVENT
DTSTART;TZID=Europe/Berlin:20260726T150000
DTEND;TZID=Europe/Berlin:20260726T170000
DTSTAMP:20260422T140654
CREATED:20260326T103550Z
LAST-MODIFIED:20260407T165512Z
UID:264-1785078000-1785085200@www.kirche-woerlitz.de
SUMMARY:Konzert für Flöte und Klavier (Max und Tatjana Litwin\, Köthen)
DESCRIPTION:Das „Köthener Bach Ensemble“ entstand 2001 um die Pianistin Tatjana Litwin und den Flötisten Max Litwin. Beide Künstler leben in Köthen und begründeten mit dem „Köthener Bach Ensemble“ eine rege kammermusikalische Konzerttätigkeit mit wechselnden instrumentalen Besetzungen\, die mit Querflöte\, Saxophon\, Violine\, Gesang\, Klavier und Orgel variiert.\nIn dem rund einstündigen Konzert erklingen selbstverständlich Werke des Namensgebers Johann Sebastian Bach\, aber auch von Georges Bizet und Gabriel Fauré sowie irische und schottische Folklore.
URL:https://www.kirche-woerlitz.de/event/konzert-fuer-floete-und-klavier-max-und-tatjana-litwin-koethen/
LOCATION:St.-Petri-Kirche
CATEGORIES:Konzerte
END:VEVENT
END:VCALENDAR