BEGIN:VCALENDAR
VERSION:2.0
PRODID:-//Evangelische Kirchgemeinde Wörlitz - ECPv6.15.20//NONSGML v1.0//EN
CALSCALE:GREGORIAN
METHOD:PUBLISH
X-WR-CALNAME:Evangelische Kirchgemeinde Wörlitz
X-ORIGINAL-URL:https://www.kirche-woerlitz.de
X-WR-CALDESC:Veranstaltungen für Evangelische Kirchgemeinde Wörlitz
REFRESH-INTERVAL;VALUE=DURATION:PT1H
X-Robots-Tag:noindex
X-PUBLISHED-TTL:PT1H
BEGIN:VTIMEZONE
TZID:Europe/Berlin
BEGIN:DAYLIGHT
TZOFFSETFROM:+0100
TZOFFSETTO:+0200
TZNAME:CEST
DTSTART:20250330T010000
END:DAYLIGHT
BEGIN:STANDARD
TZOFFSETFROM:+0200
TZOFFSETTO:+0100
TZNAME:CET
DTSTART:20251026T010000
END:STANDARD
BEGIN:DAYLIGHT
TZOFFSETFROM:+0100
TZOFFSETTO:+0200
TZNAME:CEST
DTSTART:20260329T010000
END:DAYLIGHT
BEGIN:STANDARD
TZOFFSETFROM:+0200
TZOFFSETTO:+0100
TZNAME:CET
DTSTART:20261025T010000
END:STANDARD
BEGIN:DAYLIGHT
TZOFFSETFROM:+0100
TZOFFSETTO:+0200
TZNAME:CEST
DTSTART:20270328T010000
END:DAYLIGHT
BEGIN:STANDARD
TZOFFSETFROM:+0200
TZOFFSETTO:+0100
TZNAME:CET
DTSTART:20271031T010000
END:STANDARD
END:VTIMEZONE
BEGIN:VEVENT
DTSTART;TZID=Europe/Berlin:20260712T150000
DTEND;TZID=Europe/Berlin:20260712T170000
DTSTAMP:20260422T140642
CREATED:20260326T081519Z
LAST-MODIFIED:20260326T082021Z
UID:252-1783868400-1783875600@www.kirche-woerlitz.de
SUMMARY:Orgelkonzert (Paul Reinhardt\, Leipzig / Hartenstein)
DESCRIPTION:Paul Reinhardt (*2001) ist in Hartenstein (einem kleinen erzgebirgischen Städtchen bei Zwickau) aufgewachsen. Mit vier Jahren erhielt er seinen ersten Klavierunterricht. Ab dem sechsten Lebensjahr wurde er im  Robert Schumann Konservatorium – Zwickau von Ina Walter unterrichtet. Auf dem Clara Wieck Gymnasium – Zwickau erweiterte er seine musikalische Ausbildung. Von dem zwölften Lebensjahr an erhilelt er zusätzlich Orgelunterricht bei Kantor Erhard Franke in Hartenstein. Überdies erlernte er die Grundlagen des Violinspiels. Zwischen 2015 bis 2020 war Paul Reinhardt Cembalist des Ensembles für Alte Musik im Konservatorium Zwickau. Während seiner Schulzeit nahm er regelmäßig an Wettbewerben\, etwa bei ‚Jugend-musiziert‘ teil und gewann mehrere Preise im Landes -und Bundeswettbewerb. 2019 war Solist bei der Aufführung des Klavierkonzert C-Dur (KV 467) von W.A.Mozart zusammen Jugensifonieorchester Zwickau. Seit 2020 studiert Paul Reinhardt Doppelfach Schulmusik mit Hauptfach Kirchenmusik an der Hochschule für Musik und Theater in Leipzig und tritt seither auch in der Öffentlichkeit als Organist in Erscheinung\, so auch in den Jahren 2021 und 2022\, wo er in Dänemark auf der Insel Aero erfolgreich konzertierte
URL:https://www.kirche-woerlitz.de/event/orgelkonzert-paul-reinhardt-leipzig-hartenstein/
LOCATION:St.-Petri-Kirche
CATEGORIES:Konzerte
END:VEVENT
END:VCALENDAR